BEGIN:VCALENDAR
VERSION:2.0
PRODID:-//Église évangélique de la Pélisserie - ECPv6.15.20//NONSGML v1.0//EN
CALSCALE:GREGORIAN
METHOD:PUBLISH
X-ORIGINAL-URL:https://eglisepelisserie.ch
X-WR-CALDESC:Évènements pour Église évangélique de la Pélisserie
REFRESH-INTERVAL;VALUE=DURATION:PT1H
X-Robots-Tag:noindex
X-PUBLISHED-TTL:PT1H
BEGIN:VTIMEZONE
TZID:Europe/Zurich
BEGIN:DAYLIGHT
TZOFFSETFROM:+0100
TZOFFSETTO:+0200
TZNAME:CEST
DTSTART:20240331T010000
END:DAYLIGHT
BEGIN:STANDARD
TZOFFSETFROM:+0200
TZOFFSETTO:+0100
TZNAME:CET
DTSTART:20241027T010000
END:STANDARD
BEGIN:DAYLIGHT
TZOFFSETFROM:+0100
TZOFFSETTO:+0200
TZNAME:CEST
DTSTART:20250330T010000
END:DAYLIGHT
BEGIN:STANDARD
TZOFFSETFROM:+0200
TZOFFSETTO:+0100
TZNAME:CET
DTSTART:20251026T010000
END:STANDARD
BEGIN:DAYLIGHT
TZOFFSETFROM:+0100
TZOFFSETTO:+0200
TZNAME:CEST
DTSTART:20260329T010000
END:DAYLIGHT
BEGIN:STANDARD
TZOFFSETFROM:+0200
TZOFFSETTO:+0100
TZNAME:CET
DTSTART:20261025T010000
END:STANDARD
END:VTIMEZONE
BEGIN:VEVENT
DTSTART;TZID=Europe/Zurich:20250601T094500
DTEND;TZID=Europe/Zurich:20250601T113000
DTSTAMP:20260421T234314
CREATED:20250521T173139Z
LAST-MODIFIED:20250521T173239Z
UID:3288-1748771100-1748777400@eglisepelisserie.ch
SUMMARY:Dimanche 1er juin à 9h45: culte avec cène. Prédication: Valentin Cruchet
DESCRIPTION:Le dimanche 1er juin\, l’Eglise de la Pélisserie se retrouve à 9h45 pour le culte. La prédication sera assurée par Valentin Cruchet\, animateur aux GBEU. La rencontre des ados et des enfants a lieu dans nos locaux. Bienvenue à chacun-e! 🔥🎉😮
URL:https://eglisepelisserie.ch/evenement/dimanche-1er-juin-a-9h45-culte-avec-cene-predication-valentin-cruchet/
LOCATION:Eglise de la Pélisserie\, Rue de la Pélisserie 20\, Genève\, 1204
CATEGORIES:Culte
ATTACH;FMTTYPE=image/jpeg:https://eglisepelisserie.ch/wp-content/uploads/2024/06/Geneve-rade-scaled-e1719306772287.jpg
END:VEVENT
BEGIN:VEVENT
DTSTART;TZID=Europe/Zurich:20250604T200000
DTEND;TZID=Europe/Zurich:20250604T211500
DTSTAMP:20260421T234314
CREATED:20250515T062451Z
LAST-MODIFIED:20250515T062451Z
UID:3285-1749067200-1749071700@eglisepelisserie.ch
SUMMARY:Mercredi 4 juin à 20h: sixième étude biblique sur l'épître de Jacques
DESCRIPTION:Mercredi 4 juin à 20h à la Pélisserie\, nous poursuivrons notre parcours sur l’épître de Jacques en lien avec la série proposée par le FREE COLLEGE et le professeur Marc Lüthi. Le texte examiné sera Jacques 5.14-16 et nous aborderons le thème: « L’onction des malades ». Bienvenue à chacun-e!\nVous pouvez vous préparer à cette soirée au travers de cette page web (feuille de questions\, vidéo\, chapitre à lire…).
URL:https://eglisepelisserie.ch/evenement/mercredi-4-juin-a-20h-sixieme-etude-biblique-sur-lepitre-de-jacques/
LOCATION:Eglise de la Pélisserie\, Rue de la Pélisserie 20\, Genève\, 1204
CATEGORIES:Culte,Etude biblique
ATTACH;FMTTYPE=image/jpeg:https://eglisepelisserie.ch/wp-content/uploads/2024/11/LepitredeJacques_pave-1.jpg
END:VEVENT
BEGIN:VEVENT
DTSTART;TZID=Europe/Zurich:20250608T094500
DTEND;TZID=Europe/Zurich:20250608T113000
DTSTAMP:20260421T234314
CREATED:20250529T081657Z
LAST-MODIFIED:20250529T081657Z
UID:3291-1749375900-1749382200@eglisepelisserie.ch
SUMMARY:Dimanche 8 juin à 9h45: culte avec cène. Prédication: Joerg Geiser
DESCRIPTION:Le dimanche 8 juin\, l’Eglise de la Pélisserie se retrouve à 9h45 pour le culte. La prédication sera assurée par le pasteur Joerg Geiser. La rencontre des ados et des enfants a lieu dans nos locaux. Bienvenue à chacun-e! 🔥🎉😮
URL:https://eglisepelisserie.ch/evenement/dimanche-8-juin-a-9h45-culte-avec-cene-predication-joerg-geiser/
LOCATION:Eglise de la Pélisserie\, Rue de la Pélisserie 20\, Genève\, 1204
CATEGORIES:Culte
ATTACH;FMTTYPE=image/jpeg:https://eglisepelisserie.ch/wp-content/uploads/2024/06/Geneve-rade-scaled-e1719306772287.jpg
END:VEVENT
BEGIN:VEVENT
DTSTART;TZID=Europe/Zurich:20250615T094500
DTEND;TZID=Europe/Zurich:20250615T113000
DTSTAMP:20260421T234314
CREATED:20250529T081857Z
LAST-MODIFIED:20250529T081857Z
UID:3293-1749980700-1749987000@eglisepelisserie.ch
SUMMARY:Dimanche 15 juin à 9h45: culte avec cène. Prédication: Fadi Akl
DESCRIPTION:Le dimanche 15 juin\, l’Eglise de la Pélisserie se retrouve à 9h45 pour le culte. La prédication sera assurée par le pasteur Fadi Akl. La rencontre des ados et des enfants a lieu dans nos locaux. Bienvenue à chacun-e! 🔥🎉😮
URL:https://eglisepelisserie.ch/evenement/dimanche-15-juin-a-9h45-culte-avec-cene-predication-fadi-akl/
LOCATION:Eglise de la Pélisserie\, Rue de la Pélisserie 20\, Genève\, 1204
CATEGORIES:Culte
ATTACH;FMTTYPE=image/jpeg:https://eglisepelisserie.ch/wp-content/uploads/2024/06/Geneve-rade-scaled-e1719306772287.jpg
END:VEVENT
BEGIN:VEVENT
DTSTART;TZID=Europe/Zurich:20250620T193000
DTEND;TZID=Europe/Zurich:20250620T210000
DTSTAMP:20260421T234314
CREATED:20250529T082156Z
LAST-MODIFIED:20250613T124607Z
UID:3295-1750447800-1750453200@eglisepelisserie.ch
SUMMARY:Vendredi 20 juin à 19h30: Soirée chanson et musique ukrainiennes (Fête de la musique)
DESCRIPTION:Le vendredi 20 juin à 19h30: Soirée chanson et musique ukrainiennes avec Sergii Nevalonnyi (baryton)\, Antonii Varharaki (baryton)\, Valentina Druma (soprano)\, Tetiana Vashchuk (alto)\, Natalia Payosova (alto)… Bienvenue à chacun-e! 🔥🎉😮. Entrée libre.
URL:https://eglisepelisserie.ch/evenement/vendredi-20-juin-a-19h30-lunivers-de-schubert-a-la-guitare-avec-emiliano-quaranta/
LOCATION:Eglise de la Pélisserie\, Rue de la Pélisserie 20\, Genève\, 1204
CATEGORIES:Concerts
ATTACH;FMTTYPE=image/jpeg:https://eglisepelisserie.ch/wp-content/uploads/2025/05/Chorale-Ukrainienne2.jpg
END:VEVENT
BEGIN:VEVENT
DTSTART;TZID=Europe/Zurich:20250621T143000
DTEND;TZID=Europe/Zurich:20250621T160000
DTSTAMP:20260421T234314
CREATED:20250608T125635Z
LAST-MODIFIED:20250608T125635Z
UID:3310-1750516200-1750521600@eglisepelisserie.ch
SUMMARY:Samedi 21 juin à 14h30: Concert Gospel avec The Gathering (Fête de la musique)
DESCRIPTION:Le samedi 21 février à 14h30: concert Gospel du groupe The Gathering dans le cadre de la Fête de la musique. Bienvenue à chacun-e! 🔥🎉😮. Entrée libre.
URL:https://eglisepelisserie.ch/evenement/samedi-21-juin-a-14h30-concert-gospel-avec-the-gathering-fete-de-la-musique/
LOCATION:Eglise de la Pélisserie\, Rue de la Pélisserie 20\, Genève\, 1204
CATEGORIES:Concerts
ATTACH;FMTTYPE=image/png:https://eglisepelisserie.ch/wp-content/uploads/2025/06/The-Gathering_RS.png
END:VEVENT
BEGIN:VEVENT
DTSTART;TZID=Europe/Zurich:20250621T200000
DTEND;TZID=Europe/Zurich:20250621T213000
DTSTAMP:20260421T234314
CREATED:20250606T064423Z
LAST-MODIFIED:20250606T064423Z
UID:3301-1750536000-1750541400@eglisepelisserie.ch
SUMMARY:Samedi 21 juin à 20h00: Concert-témoignage de Philippe Decourroux (Fête de la musique)
DESCRIPTION:Le samedi 21 février à 20h00: concert-témoignage de Philippe Decourroux (pop-rock) dans le cadre de la Fête de la musique. Bienvenue à chacun-e! 🔥🎉😮. Entrée libre.
URL:https://eglisepelisserie.ch/evenement/samedi-21-juin-a-20h00-concert-temoignage-de-philippe-decourroux-fete-de-la-musique/
LOCATION:Eglise de la Pélisserie\, Rue de la Pélisserie 20\, Genève\, 1204
CATEGORIES:Concerts
ATTACH;FMTTYPE=image/jpeg:https://eglisepelisserie.ch/wp-content/uploads/2025/06/Phil_Dec_Affiche_Concert_Geneve_Reseaux-Sociaux--scaled.jpg
END:VEVENT
BEGIN:VEVENT
DTSTART;TZID=Europe/Zurich:20250622T094500
DTEND;TZID=Europe/Zurich:20250622T113000
DTSTAMP:20260421T234314
CREATED:20250606T064803Z
LAST-MODIFIED:20250606T064803Z
UID:3304-1750585500-1750591800@eglisepelisserie.ch
SUMMARY:Dimanche 22 juin à 9h45: culte avec Philippe Decourroux (louange et prédication)
DESCRIPTION:Le dimanche 22 juin à 9h45: culte avec Philippe Decourroux qui animera la louange et apportera la prédication. La rencontre des ados et des enfants a lieu dans nos locaux. Bienvenue à chacun-e! 🔥🎉😮
URL:https://eglisepelisserie.ch/evenement/dimanche-22-juin-a-9h45-culte-avec-philippe-decourroux-louange-et-predication/
LOCATION:Eglise de la Pélisserie\, Rue de la Pélisserie 20\, Genève\, 1204
CATEGORIES:Culte
ATTACH;FMTTYPE=image/jpeg:https://eglisepelisserie.ch/wp-content/uploads/2025/06/Phil_Dec_Affiche_Concert_Geneve_Reseaux-Sociaux--scaled.jpg
END:VEVENT
BEGIN:VEVENT
DTSTART;TZID=Europe/Zurich:20250622T140000
DTEND;TZID=Europe/Zurich:20250622T150000
DTSTAMP:20260421T234314
CREATED:20250608T125934Z
LAST-MODIFIED:20250613T123919Z
UID:3313-1750600800-1750604400@eglisepelisserie.ch
SUMMARY:Dimanche 22 juin à 14h00: chorale d'enfants (Fête de la musique)
DESCRIPTION:Le dimanche 22 juin à 14h00: concert de la Chorale d’enfants dirigée par Emmanuel Meliz  dans le cadre de la Fête de la musique. Bienvenue à chacun-e! 🔥🎉😮. Entrée libre.
URL:https://eglisepelisserie.ch/evenement/dimanche-22-juin-a-14h00-choeur-denfants-fete-de-la-musique/
LOCATION:Eglise de la Pélisserie\, Rue de la Pélisserie 20\, Genève\, 1204
CATEGORIES:Concerts
ATTACH;FMTTYPE=image/png:https://eglisepelisserie.ch/wp-content/uploads/2025/06/Choeur-denfants_RS.png
END:VEVENT
BEGIN:VEVENT
DTSTART;TZID=Europe/Zurich:20250622T153000
DTEND;TZID=Europe/Zurich:20250622T170000
DTSTAMP:20260421T234314
CREATED:20250613T124204Z
LAST-MODIFIED:20250613T124449Z
UID:3337-1750606200-1750611600@eglisepelisserie.ch
SUMMARY:Dimanche 22 juin à 15h30: concert de l'ensemble Aqua Viva (Fête de la musique)
DESCRIPTION:Le dimanche 22 juin à 15h30: concert de AquaViva dirigé par Norberto Broggini dans le cadre de la Fête de la musique. Un programme de musique italienne du XVIIe siècle sera proposé. Bienvenue à chacun-e! 🔥🎉😮. Entrée libre.
URL:https://eglisepelisserie.ch/evenement/dimanche-22-juin-a-15h30-concert-de-lensemble-aqua-viva-fete-de-la-musique/
LOCATION:Eglise de la Pélisserie\, Rue de la Pélisserie 20\, Genève\, 1204
CATEGORIES:Concerts
ATTACH;FMTTYPE=image/png:https://eglisepelisserie.ch/wp-content/uploads/2025/06/Ensemble-Aquaviva_RS.png
END:VEVENT
BEGIN:VEVENT
DTSTART;TZID=Europe/Zurich:20250629T094500
DTEND;TZID=Europe/Zurich:20250629T113000
DTSTAMP:20260421T234314
CREATED:20250613T124854Z
LAST-MODIFIED:20250613T125059Z
UID:3343-1751190300-1751196600@eglisepelisserie.ch
SUMMARY:Dimanche 29 juin à 9h45: culte de fin d'année scolaire. Prédication: Serge Carrel
DESCRIPTION:Le dimanche 29 juin\, l’Eglise de la Pélisserie se retrouve à 9h45 pour le culte. La prédication sera assurée par le pasteur Serge Carrel. Les ados et les enfants participent au culte qui proposera un message adapté pour eux. Bienvenue à chacun-e! 🔥🎉😮
URL:https://eglisepelisserie.ch/evenement/dimanche-29-juin-a-9h45-culte-de-fin-dannee-scolaire-predication-serge-carrel/
LOCATION:Eglise de la Pélisserie\, Rue de la Pélisserie 20\, Genève\, 1204
CATEGORIES:Culte
ATTACH;FMTTYPE=image/jpeg:https://eglisepelisserie.ch/wp-content/uploads/2024/06/Geneve-rade-scaled-e1719306772287.jpg
END:VEVENT
END:VCALENDAR