BEGIN:VCALENDAR
VERSION:2.0
PRODID:-//Église évangélique de la Pélisserie - ECPv6.15.20//NONSGML v1.0//EN
CALSCALE:GREGORIAN
METHOD:PUBLISH
X-WR-CALNAME:Église évangélique de la Pélisserie
X-ORIGINAL-URL:https://eglisepelisserie.ch
X-WR-CALDESC:Évènements pour Église évangélique de la Pélisserie
REFRESH-INTERVAL;VALUE=DURATION:PT1H
X-Robots-Tag:noindex
X-PUBLISHED-TTL:PT1H
BEGIN:VTIMEZONE
TZID:Europe/Zurich
BEGIN:DAYLIGHT
TZOFFSETFROM:+0100
TZOFFSETTO:+0200
TZNAME:CEST
DTSTART:20240331T010000
END:DAYLIGHT
BEGIN:STANDARD
TZOFFSETFROM:+0200
TZOFFSETTO:+0100
TZNAME:CET
DTSTART:20241027T010000
END:STANDARD
BEGIN:DAYLIGHT
TZOFFSETFROM:+0100
TZOFFSETTO:+0200
TZNAME:CEST
DTSTART:20250330T010000
END:DAYLIGHT
BEGIN:STANDARD
TZOFFSETFROM:+0200
TZOFFSETTO:+0100
TZNAME:CET
DTSTART:20251026T010000
END:STANDARD
BEGIN:DAYLIGHT
TZOFFSETFROM:+0100
TZOFFSETTO:+0200
TZNAME:CEST
DTSTART:20260329T010000
END:DAYLIGHT
BEGIN:STANDARD
TZOFFSETFROM:+0200
TZOFFSETTO:+0100
TZNAME:CET
DTSTART:20261025T010000
END:STANDARD
END:VTIMEZONE
BEGIN:VEVENT
DTSTART;TZID=Europe/Zurich:20250402T200000
DTEND;TZID=Europe/Zurich:20250402T211500
DTSTAMP:20260421T181503
CREATED:20250317T073228Z
LAST-MODIFIED:20250317T073415Z
UID:3253-1743624000-1743628500@eglisepelisserie.ch
SUMMARY:Mercredi 2 avril à 20h: quatrième étude biblique sur l'épître de Jacques
DESCRIPTION:Mercredi 2 avril à 20h à la Pélisserie\, nous poursuivrons notre parcours sur l’épître de Jacques en lien avec la série proposée par le FREE COLLEGE et le professeur Marc Lüthi. Le texte examiné sera Jacques 3.1-12 et nous aborderons le thème: « La langue\, un petit organe redoutable ». Bienvenue à chacun-e!\nVous pouvez vous préparer à cette soirée au travers de cette page web (feuille de questions\, vidéo\, chapitre à lire…).
URL:https://eglisepelisserie.ch/evenement/mercredi-2-avril-a-20h-quatrieme-etude-biblique-sur-lepitre-de-jacques/
LOCATION:Eglise de la Pélisserie\, Rue de la Pélisserie 20\, Genève\, 1204
CATEGORIES:Culte,Etude biblique
ATTACH;FMTTYPE=image/jpeg:https://eglisepelisserie.ch/wp-content/uploads/2024/11/LepitredeJacques_pave-1.jpg
END:VEVENT
BEGIN:VEVENT
DTSTART;TZID=Europe/Zurich:20250406T094500
DTEND;TZID=Europe/Zurich:20250406T113000
DTSTAMP:20260421T181503
CREATED:20250401T151229Z
LAST-MODIFIED:20250401T151229Z
UID:3256-1743932700-1743939000@eglisepelisserie.ch
SUMMARY:Dimanche 6 avril à 9h45: culte avec cène. Prédication: Patrick Hierl
DESCRIPTION:Le dimanche 6 avril\, l’Eglise de la Pélisserie se retrouve à 9h45 pour le culte. La prédication sera assurée par le pasteur stagiaire Patrick Hierl (Eglise évangélique Arc-en-ciel à Gland). La rencontre des ados et des enfants a lieu dans nos locaux. Bienvenue à chacun-e! 🔥🎉😮
URL:https://eglisepelisserie.ch/evenement/dimanche-6-avril-a-9h45-culte-avec-cene-predication-patrick-hierl/
LOCATION:Eglise de la Pélisserie\, Rue de la Pélisserie 20\, Genève\, 1204
CATEGORIES:Culte
ATTACH;FMTTYPE=image/jpeg:https://eglisepelisserie.ch/wp-content/uploads/2024/06/Geneve-rade-scaled-e1719306772287.jpg
END:VEVENT
BEGIN:VEVENT
DTSTART;TZID=Europe/Zurich:20250413T094500
DTEND;TZID=Europe/Zurich:20250413T113000
DTSTAMP:20260421T181503
CREATED:20250401T151538Z
LAST-MODIFIED:20250401T151538Z
UID:3258-1744537500-1744543800@eglisepelisserie.ch
SUMMARY:Dimanche 13 avril à 9h45: culte avec cène. Prédication: Jean-Marc Bittner
DESCRIPTION:Le dimanche 13 avril\, l’Eglise de la Pélisserie se retrouve à 9h45 pour le culte. La prédication sera assurée par le pasteur Jean-Marc Bittner. Son épouse Pascale Bittner évoquera les 100 ans de la Ligue pour la lecture de la Bible. La rencontre des ados et des enfants a lieu dans nos locaux. Bienvenue à chacun-e! 🔥🎉😮
URL:https://eglisepelisserie.ch/evenement/dimanche-13-avril-a-9h45-culte-avec-cene-predication-jean-marc-bittner/
LOCATION:Eglise de la Pélisserie\, Rue de la Pélisserie 20\, Genève\, 1204
CATEGORIES:Culte
ATTACH;FMTTYPE=image/jpeg:https://eglisepelisserie.ch/wp-content/uploads/2024/06/Geneve-rade-scaled-e1719306772287.jpg
END:VEVENT
BEGIN:VEVENT
DTSTART;TZID=Europe/Zurich:20250413T123000
DTEND;TZID=Europe/Zurich:20250413T144500
DTSTAMP:20260421T181503
CREATED:20250309T121254Z
LAST-MODIFIED:20250316T123005Z
UID:3242-1744547400-1744555500@eglisepelisserie.ch
SUMMARY:Dimanche 13 avril à 12h30: rencontre du Groupe de jeunes adultes FREE
DESCRIPTION:Le dimanche 13 avril\, le Groupe de jeunes adultes des Eglises FREE de Genève se retrouve à la chapelle de la Pélisserie à 12h30 pour un repas partagé et une discussion autour d’un thème en lien avec la foi. Bienvenue à chacun-e! 🔥🎉😮 Infos: olivier.t.berner@gmail.com \n 
URL:https://eglisepelisserie.ch/evenement/dimanche-13-avril-a-12h30-rencontre-du-groupe-de-jeunes-adultes-free/
LOCATION:Eglise de la Pélisserie\, Rue de la Pélisserie 20\, Genève\, 1204
CATEGORIES:Culte
ATTACH;FMTTYPE=image/jpeg:https://eglisepelisserie.ch/wp-content/uploads/2025/02/Flyer25.jpeg
END:VEVENT
BEGIN:VEVENT
DTSTART;TZID=Europe/Zurich:20250420T094500
DTEND;TZID=Europe/Zurich:20250420T113000
DTSTAMP:20260421T181503
CREATED:20250401T152215Z
LAST-MODIFIED:20250401T152215Z
UID:3262-1745142300-1745148600@eglisepelisserie.ch
SUMMARY:Dimanche 20 avril à 9h45: culte de Pâques avec cène. Prédication: Serge Carrel
DESCRIPTION:Le dimanche 20 avril\, l’Eglise de la Pélisserie se retrouve à 9h45 pour le culte de Pâques. La prédication sera assurée par le pasteur Serge Carrel. La rencontre des ados et des enfants a lieu dans nos locaux. Bienvenue à chacun-e! 🔥🎉😮
URL:https://eglisepelisserie.ch/evenement/dimanche-20-avril-a-9h45-culte-de-paques-avec-cene-predication-serge-carrel/
LOCATION:Eglise de la Pélisserie\, Rue de la Pélisserie 20\, Genève\, 1204
CATEGORIES:Culte
ATTACH;FMTTYPE=image/jpeg:https://eglisepelisserie.ch/wp-content/uploads/2024/06/Geneve-rade-scaled-e1719306772287.jpg
END:VEVENT
END:VCALENDAR