BEGIN:VCALENDAR
VERSION:2.0
PRODID:-//Église évangélique de la Pélisserie - ECPv6.15.20//NONSGML v1.0//EN
CALSCALE:GREGORIAN
METHOD:PUBLISH
X-ORIGINAL-URL:https://eglisepelisserie.ch
X-WR-CALDESC:Évènements pour Église évangélique de la Pélisserie
REFRESH-INTERVAL;VALUE=DURATION:PT1H
X-Robots-Tag:noindex
X-PUBLISHED-TTL:PT1H
BEGIN:VTIMEZONE
TZID:Europe/Zurich
BEGIN:DAYLIGHT
TZOFFSETFROM:+0100
TZOFFSETTO:+0200
TZNAME:CEST
DTSTART:20240331T010000
END:DAYLIGHT
BEGIN:STANDARD
TZOFFSETFROM:+0200
TZOFFSETTO:+0100
TZNAME:CET
DTSTART:20241027T010000
END:STANDARD
BEGIN:DAYLIGHT
TZOFFSETFROM:+0100
TZOFFSETTO:+0200
TZNAME:CEST
DTSTART:20250330T010000
END:DAYLIGHT
BEGIN:STANDARD
TZOFFSETFROM:+0200
TZOFFSETTO:+0100
TZNAME:CET
DTSTART:20251026T010000
END:STANDARD
BEGIN:DAYLIGHT
TZOFFSETFROM:+0100
TZOFFSETTO:+0200
TZNAME:CEST
DTSTART:20260329T010000
END:DAYLIGHT
BEGIN:STANDARD
TZOFFSETFROM:+0200
TZOFFSETTO:+0100
TZNAME:CET
DTSTART:20261025T010000
END:STANDARD
END:VTIMEZONE
BEGIN:VEVENT
DTSTART;TZID=Europe/Zurich:20250202T094500
DTEND;TZID=Europe/Zurich:20250202T113000
DTSTAMP:20260421T111902
CREATED:20250201T092024Z
LAST-MODIFIED:20250201T092445Z
UID:3189-1738489500-1738495800@eglisepelisserie.ch
SUMMARY:Dimanche 2 février à 9h45: culte avec une prédication de Christian Bibollet (repas d'Eglise)
DESCRIPTION:Le dimanche 2 février\, l’Eglise de la Pélisserie se retrouve à 9h45 pour le culte. La prédication sera assurée par Christian Bibollet.\nLa rencontre des ados et des enfants a lieu dans nos locaux. Un repas communautaire préparé par des amis de Mongolie permettra à chacun-e de poursuivre dans l’échange et le partage. Bienvenue à chacun-e! 🔥🎉😮
URL:https://eglisepelisserie.ch/evenement/dimanche-2-fevrier-a-9h45-culte-avec-une-predication-de-christian-bibollet/
LOCATION:Eglise de la Pélisserie\, Rue de la Pélisserie 20\, Genève\, 1204
CATEGORIES:Culte
ATTACH;FMTTYPE=image/jpeg:https://eglisepelisserie.ch/wp-content/uploads/2024/06/Geneve-rade-scaled-e1719306772287.jpg
END:VEVENT
BEGIN:VEVENT
DTSTART;TZID=Europe/Zurich:20250205T200000
DTEND;TZID=Europe/Zurich:20250205T211500
DTSTAMP:20260421T111902
CREATED:20250111T145841Z
LAST-MODIFIED:20250111T145841Z
UID:3175-1738785600-1738790100@eglisepelisserie.ch
SUMMARY:Mercredi 5 février à 20h: deuxième étude biblique sur l'épître de Jacques
DESCRIPTION:Mercredi 5 février à 20h à la Pélisserie\, nous poursuivrons notre parcours sur l’épître de Jacques en lien avec la série proposée par le FREE COLLEGE et le professeur Marc Lüthi. Le texte examiné sera Jacques 2.1-11 et nous aborderons le thème: « Pas de favoritisme dans l’Eglise et dans la société ». Bienvenue à chacun-e!\nVous pouvez vous préparer à cette soirée au travers de cette page web (feuille de questions\, vidéo\, chapitre à lire…).
URL:https://eglisepelisserie.ch/evenement/mercredi-5-fevrier-a-20h-deuxieme-etude-biblique-sur-lepitre-de-jacques/
LOCATION:Eglise de la Pélisserie\, Rue de la Pélisserie 20\, Genève\, 1204
CATEGORIES:Culte,Etude biblique
ATTACH;FMTTYPE=image/jpeg:https://eglisepelisserie.ch/wp-content/uploads/2024/11/LepitredeJacques_pave-1.jpg
END:VEVENT
BEGIN:VEVENT
DTSTART;TZID=Europe/Zurich:20250206T183000
DTEND;TZID=Europe/Zurich:20250206T200000
DTSTAMP:20260421T111902
CREATED:20250111T150520Z
LAST-MODIFIED:20250111T150600Z
UID:3177-1738866600-1738872000@eglisepelisserie.ch
SUMMARY:Jeudi 6 février à 18h30: table ronde au Musée international de la Réforme sur "Le Réveil de Genève"
DESCRIPTION:Jeudi 6 février à 18h30 au Musée international de la Réforme: table ronde à l’occasion de la publication de « Le Réveil de Genève. Perspectives internationales ». Intervenant-e-s: Monique Cuany\, Sarah Scholl et Jean Decorvet. Modération : Gabriel de Montmollin\, directeur du MIR. Entrée libre. Adresse: Cours de Saint-Pierre 10\, 1204 Genève.
URL:https://eglisepelisserie.ch/evenement/jeudi-6-fevrier-a-18h30-table-ronde-au-musees-international-de-la-reforme-sur-le-reveil-de-geneve/
LOCATION:Eglise de la Pélisserie\, Rue de la Pélisserie 20\, Genève\, 1204
CATEGORIES:Culte,Etude biblique
ATTACH;FMTTYPE=image/jpeg:https://eglisepelisserie.ch/wp-content/uploads/2025/01/MIR-Reveil-scaled.jpg
END:VEVENT
BEGIN:VEVENT
DTSTART;TZID=Europe/Zurich:20250209T094500
DTEND;TZID=Europe/Zurich:20250209T113000
DTSTAMP:20260421T111902
CREATED:20250201T095055Z
LAST-MODIFIED:20250205T082635Z
UID:3195-1739094300-1739100600@eglisepelisserie.ch
SUMMARY:Dimanche 9 février à 9h45: culte avec une prédication de Marc Lüthi en lien avec l'épître de Jacques
DESCRIPTION:Le dimanche 9 février\, l’Eglise de la Pélisserie se retrouve à 9h45 pour le culte. La prédication sera assurée par Marc Luthi en lien avec les études bibliques autour de l’épître de Jacques. Le titre de sa prédication est: « La foi sans les œuvres est morte! » (Jacques 2. 14-26).\nLa rencontre des ados et des enfants a lieu dans nos locaux. Bienvenue à chacun-e! 🔥🎉😮
URL:https://eglisepelisserie.ch/evenement/dimanche-9-fevrier-a-9h45-culte-avec-une-predication-de-marc-luthi-en-lien-avec-lepitre-de-jacques/
LOCATION:Eglise de la Pélisserie\, Rue de la Pélisserie 20\, Genève\, 1204
CATEGORIES:Culte
ATTACH;FMTTYPE=image/jpeg:https://eglisepelisserie.ch/wp-content/uploads/2024/06/Geneve-rade-scaled-e1719306772287.jpg
END:VEVENT
BEGIN:VEVENT
DTSTART;TZID=Europe/Zurich:20250209T151500
DTEND;TZID=Europe/Zurich:20250209T163000
DTSTAMP:20260421T111902
CREATED:20250201T095337Z
LAST-MODIFIED:20250208T090349Z
UID:3197-1739114100-1739118600@eglisepelisserie.ch
SUMMARY:Dimanche 9 février à 15h15: récital de piano d’Esther Duteil
DESCRIPTION:Dimanche 9 février 15h15 : récital de piano d’Esther Duteil avec des œuvres de J.S. Bach\, S. Gubaidulina\, W. A. Mozart\, G. Kurtag et C. Franck. Entrée libre. Chapeau à la sortie. Bienvenue à chacun-e! 🔥🎉😮
URL:https://eglisepelisserie.ch/evenement/dimanche-9-fevrier-a-15h15-recital-de-piano-desther-duteil/
LOCATION:Eglise de la Pélisserie\, Rue de la Pélisserie 20\, Genève\, 1204
CATEGORIES:Concerts
ATTACH;FMTTYPE=image/jpeg:https://eglisepelisserie.ch/wp-content/uploads/2025/02/01-CONCERT-09.02.25-DUTEIL-Esther-page-de-garde-1.jpg
END:VEVENT
BEGIN:VEVENT
DTSTART;TZID=Europe/Zurich:20250216T094500
DTEND;TZID=Europe/Zurich:20250216T113000
DTSTAMP:20260421T111902
CREATED:20250208T090537Z
LAST-MODIFIED:20250208T090537Z
UID:3204-1739699100-1739705400@eglisepelisserie.ch
SUMMARY:Dimanche 16 février à 9h45: culte avec une prédication d'un membre du conseil
DESCRIPTION:Le dimanche 16 février\, l’Eglise de la Pélisserie se retrouve à 9h45 pour le culte. La prédication sera assurée par un membre du conseil. La rencontre des ados et des enfants a lieu dans nos locaux. Bienvenue à chacun-e! 🔥🎉😮
URL:https://eglisepelisserie.ch/evenement/dimanche-16-fevrier-a-9h45-culte-avec-une-predication-dun-membre-du-conseil/
LOCATION:Eglise de la Pélisserie\, Rue de la Pélisserie 20\, Genève\, 1204
CATEGORIES:Culte
ATTACH;FMTTYPE=image/jpeg:https://eglisepelisserie.ch/wp-content/uploads/2024/06/Geneve-rade-scaled-e1719306772287.jpg
END:VEVENT
BEGIN:VEVENT
DTSTART;TZID=Europe/Zurich:20250216T123000
DTEND;TZID=Europe/Zurich:20250216T144500
DTSTAMP:20260421T111902
CREATED:20250213T104206Z
LAST-MODIFIED:20250213T104442Z
UID:3211-1739709000-1739717100@eglisepelisserie.ch
SUMMARY:Dimanche 16 février à 12h30: rencontre du Groupe de jeunes adultes FREE
DESCRIPTION:Le dimanche 16 février\, le Groupe de jeunes adultes des Eglises FREE de Genève se retrouve à la chapelle de la Pélisserie à 12h30 pour un repas partagé et une discussion autour d’un thème en lien avec la foi. Bienvenue à chacun-e! 🔥🎉😮
URL:https://eglisepelisserie.ch/evenement/dimanche-16-fevrier-a-9h45-culte-avec-une-predication-dun-membre-du-conseil-2/
LOCATION:Eglise de la Pélisserie\, Rue de la Pélisserie 20\, Genève\, 1204
CATEGORIES:Culte
ATTACH;FMTTYPE=image/jpeg:https://eglisepelisserie.ch/wp-content/uploads/2025/02/Flyer25.jpeg
END:VEVENT
BEGIN:VEVENT
DTSTART;TZID=Europe/Zurich:20250220T190000
DTEND;TZID=Europe/Zurich:20250220T203000
DTSTAMP:20260421T111902
CREATED:20250213T105735Z
LAST-MODIFIED:20250213T105735Z
UID:3217-1740078000-1740083400@eglisepelisserie.ch
SUMMARY:Jeudi 20 février à 19h: l'univers de Schubert à la guitare avec Emiliano Quaranta
DESCRIPTION:Jeudi 20 février 19h: concert d’Emiliano Quaranta (guitare)\, Sofie Garcia (chant) et Gala Kossakowski (flûte). L’univers de Schubert à la guitare. Invitation au voyage à travers sa musique de chambre et ses lieder. Bienvenue à chacun-e! 🔥🎉😮. Chapeau à la sortie.
URL:https://eglisepelisserie.ch/evenement/jeudi-20-fevrier-a-19h-lunivers-de-schubert-a-la-guitare-avec-emiliano-quaranta/
LOCATION:Eglise de la Pélisserie\, Rue de la Pélisserie 20\, Genève\, 1204
CATEGORIES:Concerts
ATTACH;FMTTYPE=application/pdf:https://eglisepelisserie.ch/wp-content/uploads/2025/02/Concert-20-fevrier.pdf
END:VEVENT
BEGIN:VEVENT
DTSTART;TZID=Europe/Zurich:20250223T094500
DTEND;TZID=Europe/Zurich:20250223T113000
DTSTAMP:20260421T111902
CREATED:20250217T170437Z
LAST-MODIFIED:20250217T170437Z
UID:3222-1740303900-1740310200@eglisepelisserie.ch
SUMMARY:Dimanche 23 février à 9h45: culte avec une prédication de Serge Carrel
DESCRIPTION:Le dimanche 23 février\, l’Eglise de la Pélisserie se retrouve à 9h45 pour le culte. La prédication sera assurée par Serge Carrel. La rencontre des ados et des enfants a lieu dans nos locaux. Bienvenue à chacun-e! 🔥🎉😮
URL:https://eglisepelisserie.ch/evenement/dimanche-23-fevrier-a-9h45-culte-avec-une-predication-de-serge-carrel/
LOCATION:Eglise de la Pélisserie\, Rue de la Pélisserie 20\, Genève\, 1204
CATEGORIES:Culte
ATTACH;FMTTYPE=image/jpeg:https://eglisepelisserie.ch/wp-content/uploads/2024/06/Geneve-rade-scaled-e1719306772287.jpg
END:VEVENT
END:VCALENDAR