BEGIN:VCALENDAR
VERSION:2.0
PRODID:-//Église évangélique de la Pélisserie - ECPv6.15.20//NONSGML v1.0//EN
CALSCALE:GREGORIAN
METHOD:PUBLISH
X-ORIGINAL-URL:https://eglisepelisserie.ch
X-WR-CALDESC:Évènements pour Église évangélique de la Pélisserie
REFRESH-INTERVAL;VALUE=DURATION:PT1H
X-Robots-Tag:noindex
X-PUBLISHED-TTL:PT1H
BEGIN:VTIMEZONE
TZID:Europe/Zurich
BEGIN:DAYLIGHT
TZOFFSETFROM:+0100
TZOFFSETTO:+0200
TZNAME:CEST
DTSTART:20230326T010000
END:DAYLIGHT
BEGIN:STANDARD
TZOFFSETFROM:+0200
TZOFFSETTO:+0100
TZNAME:CET
DTSTART:20231029T010000
END:STANDARD
BEGIN:DAYLIGHT
TZOFFSETFROM:+0100
TZOFFSETTO:+0200
TZNAME:CEST
DTSTART:20240331T010000
END:DAYLIGHT
BEGIN:STANDARD
TZOFFSETFROM:+0200
TZOFFSETTO:+0100
TZNAME:CET
DTSTART:20241027T010000
END:STANDARD
BEGIN:DAYLIGHT
TZOFFSETFROM:+0100
TZOFFSETTO:+0200
TZNAME:CEST
DTSTART:20250330T010000
END:DAYLIGHT
BEGIN:STANDARD
TZOFFSETFROM:+0200
TZOFFSETTO:+0100
TZNAME:CET
DTSTART:20251026T010000
END:STANDARD
END:VTIMEZONE
BEGIN:VEVENT
DTSTART;TZID=Europe/Zurich:20241201T094500
DTEND;TZID=Europe/Zurich:20241201T113000
DTSTAMP:20260421T030714
CREATED:20241127T112958Z
LAST-MODIFIED:20241127T113105Z
UID:3135-1733046300-1733052600@eglisepelisserie.ch
SUMMARY:Dimanche 1er décembre à 9h45: culte avec Joerg Geiser\, pasteur
DESCRIPTION:Le dimanche 1er décembre\, l’Eglise de la Pélisserie se retrouvera à 9h45 pour le culte. La prédication sera assurée par Joerg Geiser\, pasteur. La rencontre des ados et des enfants a lieu dans nos locaux. L’Assemblée générale suivra le culte\, puis un repas communautaire préparé par une équipe de l’IBG permettra à chacun-e de poursuivre dans l’échange et le partage. Bienvenue à chacun-e! 🔥🎉😮
URL:https://eglisepelisserie.ch/evenement/dimanche-1er-decembre-a-9h45-culte-avec-joerg-geiser-pasteur/
LOCATION:Eglise de la Pélisserie\, Rue de la Pélisserie 20\, Genève\, 1204
CATEGORIES:Culte
ATTACH;FMTTYPE=image/jpeg:https://eglisepelisserie.ch/wp-content/uploads/2024/06/Geneve-rade-scaled-e1719306772287.jpg
END:VEVENT
BEGIN:VEVENT
DTSTART;TZID=Europe/Zurich:20241208T094500
DTEND;TZID=Europe/Zurich:20241208T113000
DTSTAMP:20260421T030714
CREATED:20241202T141316Z
LAST-MODIFIED:20241205T095201Z
UID:3156-1733651100-1733657400@eglisepelisserie.ch
SUMMARY:Dimanche 8 décembre à 9h45: culte avec Jacques Villegas\, conseiller conjugal et familial
DESCRIPTION:Le dimanche 8 décembre\, l’Eglise de la Pélisserie se retrouvera à 9h45 pour le culte. La prédication sera assurée par Jacques Villegas\, conseiller conjugal et familial. Son thème: «Porter le feu de l’émerveillement». La rencontre des ados et des enfants a lieu dans nos locaux. Bienvenue à chacun-e! 🔥🎉😮
URL:https://eglisepelisserie.ch/evenement/dimanche-8-decembre-a-9h45-culte-avec-jacques-villegas-conseiller-conjugal-et-familial/
LOCATION:Eglise de la Pélisserie\, Rue de la Pélisserie 20\, Genève\, 1204
CATEGORIES:Culte
ATTACH;FMTTYPE=image/jpeg:https://eglisepelisserie.ch/wp-content/uploads/2024/06/Geneve-rade-scaled-e1719306772287.jpg
END:VEVENT
BEGIN:VEVENT
DTSTART;TZID=Europe/Zurich:20241213T183000
DTEND;TZID=Europe/Zurich:20241215T160000
DTSTAMP:20260421T030714
CREATED:20241127T144401Z
LAST-MODIFIED:20241127T145411Z
UID:3141-1734114600-1734278400@eglisepelisserie.ch
SUMMARY:Escalade 2024: 13-15 décembre
DESCRIPTION:Venez découvrir notre exposition basée sur le livre « La Nuit de l’Escalade » d’Edouard Elzingre. Elle sera ouverte le vendredi 13 décembre de 18h30 à 21h30\, le samedi 14 de 14h à 22h\, et le dimanche de 14h à 16h.
URL:https://eglisepelisserie.ch/evenement/escalade-2024/
LOCATION:Eglise de la Pélisserie\, Rue de la Pélisserie 20\, Genève\, 1204
CATEGORIES:Conférence
ATTACH;FMTTYPE=image/jpeg:https://eglisepelisserie.ch/wp-content/uploads/2024/11/Escalade-2024-web.jpg
END:VEVENT
BEGIN:VEVENT
DTSTART;TZID=Europe/Zurich:20241215T094500
DTEND;TZID=Europe/Zurich:20241215T113000
DTSTAMP:20260421T030714
CREATED:20241213T105707Z
LAST-MODIFIED:20241213T105707Z
UID:3161-1734255900-1734262200@eglisepelisserie.ch
SUMMARY:Dimanche 15 décembre à 9h45: culte et prédication de Serge Carrel
DESCRIPTION:Le dimanche 15 décembre\, l’Eglise de la Pélisserie se retrouvera à 9h45 pour le culte. La prédication sera assurée par Serge Carrel. Son thème: «L’Avent: Dieu dans nos souffrances». La rencontre des ados et des enfants a lieu dans nos locaux. Bienvenue à chacun-e! 🔥🎉😮
URL:https://eglisepelisserie.ch/evenement/dimanche-15-decembre-a-9h45-culte-et-predication-de-serge-carrel/
LOCATION:Eglise de la Pélisserie\, Rue de la Pélisserie 20\, Genève\, 1204
CATEGORIES:Culte
ATTACH;FMTTYPE=image/jpeg:https://eglisepelisserie.ch/wp-content/uploads/2024/06/Geneve-rade-scaled-e1719306772287.jpg
END:VEVENT
BEGIN:VEVENT
DTSTART;TZID=Europe/Zurich:20241222T100000
DTEND;TZID=Europe/Zurich:20241222T113000
DTSTAMP:20260421T030714
CREATED:20241127T113518Z
LAST-MODIFIED:20241127T113742Z
UID:3138-1734861600-1734867000@eglisepelisserie.ch
SUMMARY:Fête de Noël
DESCRIPTION:
URL:https://eglisepelisserie.ch/evenement/fete-de-noel-2/
LOCATION:Eglise de la Pélisserie\, Rue de la Pélisserie 20\, Genève\, 1204
CATEGORIES:Culte
ATTACH;FMTTYPE=image/jpeg:https://eglisepelisserie.ch/wp-content/uploads/2024/11/Pelisserie-Fete-de-Noel.jpg
END:VEVENT
BEGIN:VEVENT
DTSTART;TZID=Europe/Zurich:20241225T100000
DTEND;TZID=Europe/Zurich:20241225T111500
DTSTAMP:20260421T030714
CREATED:20241223T085221Z
LAST-MODIFIED:20241223T085616Z
UID:3167-1735120800-1735125300@eglisepelisserie.ch
SUMMARY:Mercredi 25 décembre à 10h: mini-culte de Noël
DESCRIPTION:Mercredi 25 décembre\, l’Eglise de la Pélisserie se retrouvera à 10h pour un mini-culte de Noël. Daniel Gouanou\, membre de l’équipe de responsables\, présidera ce culte. Bienvenue à chacun-e! 🔥🎉😮
URL:https://eglisepelisserie.ch/evenement/mercredi-25-decembre-a-10h-mini-culte-de-noel/
LOCATION:Eglise de la Pélisserie\, Rue de la Pélisserie 20\, Genève\, 1204
CATEGORIES:Culte
ATTACH;FMTTYPE=image/jpeg:https://eglisepelisserie.ch/wp-content/uploads/2024/06/Geneve-rade-scaled-e1719306772287.jpg
END:VEVENT
BEGIN:VEVENT
DTSTART;TZID=Europe/Zurich:20241229T094500
DTEND;TZID=Europe/Zurich:20241229T113000
DTSTAMP:20260421T030714
CREATED:20241223T084714Z
LAST-MODIFIED:20241223T084714Z
UID:3163-1735465500-1735471800@eglisepelisserie.ch
SUMMARY:Dimanche 29 décembre à 9h45: culte  témoignage
DESCRIPTION:Le dimanche 29 décembre\, l’Eglise de la Pélisserie se retrouvera à 9h45 pour le culte. Une grande place sera réservée aux témoignages des uns et des autres par rapport à ce que le Seigneur a réalisé en 2024 dans la vie de chacun-e. Si vous souhaitez témoigner de l’action de Dieu\, ne manquez pas de contacter le pasteur. Bienvenue à chacun-e! 🔥🎉😮
URL:https://eglisepelisserie.ch/evenement/dimanche-29-decembre-a-9h45-culte-temoignage/
LOCATION:Eglise de la Pélisserie\, Rue de la Pélisserie 20\, Genève\, 1204
CATEGORIES:Culte
ATTACH;FMTTYPE=image/jpeg:https://eglisepelisserie.ch/wp-content/uploads/2024/06/Geneve-rade-scaled-e1719306772287.jpg
END:VEVENT
END:VCALENDAR