BEGIN:VCALENDAR
VERSION:2.0
PRODID:-//Église évangélique de la Pélisserie - ECPv6.15.20//NONSGML v1.0//EN
CALSCALE:GREGORIAN
METHOD:PUBLISH
X-ORIGINAL-URL:https://eglisepelisserie.ch
X-WR-CALDESC:Évènements pour Église évangélique de la Pélisserie
REFRESH-INTERVAL;VALUE=DURATION:PT1H
X-Robots-Tag:noindex
X-PUBLISHED-TTL:PT1H
BEGIN:VTIMEZONE
TZID:Europe/Zurich
BEGIN:DAYLIGHT
TZOFFSETFROM:+0100
TZOFFSETTO:+0200
TZNAME:CEST
DTSTART:20230326T010000
END:DAYLIGHT
BEGIN:STANDARD
TZOFFSETFROM:+0200
TZOFFSETTO:+0100
TZNAME:CET
DTSTART:20231029T010000
END:STANDARD
BEGIN:DAYLIGHT
TZOFFSETFROM:+0100
TZOFFSETTO:+0200
TZNAME:CEST
DTSTART:20240331T010000
END:DAYLIGHT
BEGIN:STANDARD
TZOFFSETFROM:+0200
TZOFFSETTO:+0100
TZNAME:CET
DTSTART:20241027T010000
END:STANDARD
BEGIN:DAYLIGHT
TZOFFSETFROM:+0100
TZOFFSETTO:+0200
TZNAME:CEST
DTSTART:20250330T010000
END:DAYLIGHT
BEGIN:STANDARD
TZOFFSETFROM:+0200
TZOFFSETTO:+0100
TZNAME:CET
DTSTART:20251026T010000
END:STANDARD
END:VTIMEZONE
BEGIN:VEVENT
DTSTART;TZID=Europe/Zurich:20241002T200000
DTEND;TZID=Europe/Zurich:20241002T211500
DTSTAMP:20260420T140050
CREATED:20240903T084717Z
LAST-MODIFIED:20240903T084717Z
UID:3066-1727899200-1727903700@eglisepelisserie.ch
SUMMARY:Mercredi 2 octobre à 20h: étude biblique «Savoir demander\, refuser\, donner et recevoir»
DESCRIPTION:Mercredi 2 octobre à 20h à la Pélisserie\, quatrième étude biblique autour de la communication. Intitulée : « Savoir demander\, refuser\, donner et recevoir »\, elle portera sur le livre de Thierry Lenoir « Parole de chair ». Bienvenue à chacun-e!\nVous pouvez vous préparer à cette soirée au travers de cette page web (feuille de questions\, vidéo\, chapitre à lire…).
URL:https://eglisepelisserie.ch/evenement/mercredi-2-octobre-a-20h-etude-biblique-savoir-demander-refuser-donner-et-recevoir/
LOCATION:Eglise de la Pélisserie\, Rue de la Pélisserie 20\, Genève\, 1204
CATEGORIES:Culte,Etude biblique
ATTACH;FMTTYPE=image/jpeg:https://eglisepelisserie.ch/wp-content/uploads/2024/08/Lenoir-couv-web-site-pel-scaled.jpg
END:VEVENT
BEGIN:VEVENT
DTSTART;TZID=Europe/Zurich:20241005T090000
DTEND;TZID=Europe/Zurich:20241005T170000
DTSTAMP:20260420T140050
CREATED:20240822T154924Z
LAST-MODIFIED:20240905T111932Z
UID:3039-1728118800-1728147600@eglisepelisserie.ch
SUMMARY:Une journée autour de Calvin et du Réveil de Genève
DESCRIPTION:Le samedi 5 octobre\, le FREE COLLEGE organise dans les locaux de l’Eglise une journée autour de Jean Calvin et du Réveil de Genève. Des conférences de Christian Reichel et Jean Decorvet de la HET-PRO de Saint-Légier (VD) seront données tout au long de la journée. Une visite au Musée international de la Réforme permettra de visualiser davantage ces deux moments-phares de l’histoire du protestantisme. Inscription obligatoire sur le site du FREE COLLEGE.
URL:https://eglisepelisserie.ch/evenement/une-journee-autour-de-calvin-et-du-reveil-de-geneve/
LOCATION:Eglise de la Pélisserie\, Rue de la Pélisserie 20\, Genève\, 1204
CATEGORIES:Conférence
ATTACH;FMTTYPE=application/pdf:https://eglisepelisserie.ch/wp-content/uploads/2024/08/Calvin-et-le-Reveil-de-Geneve_web.pdf
END:VEVENT
BEGIN:VEVENT
DTSTART;TZID=Europe/Zurich:20241006T094500
DTEND;TZID=Europe/Zurich:20241006T113000
DTSTAMP:20260420T140050
CREATED:20240930T051453Z
LAST-MODIFIED:20240930T051453Z
UID:3090-1728207900-1728214200@eglisepelisserie.ch
SUMMARY:Dimanche 6 octobre à 9h45: culte avec repas communautaire aux saveurs coréennes
DESCRIPTION:Le dimanche 6 octobre\, l’Eglise de la Pélisserie se retrouvera à 9h45 pour le culte. Puis autour de 12h\, un repas communautaire aux saveurs coréennes sera proposé à toutes les personnes présentes. La prédication sera assurée par Serge Carrel. La rencontre des ados et des enfants a lieu dans nos locaux. Bienvenue à chacun-e! 🔥🎉😮
URL:https://eglisepelisserie.ch/evenement/dimanche-6-octobre-a-9h45-culte-avec-repas-communautaire-aux-saveurs-coreennes/
LOCATION:Eglise de la Pélisserie\, Rue de la Pélisserie 20\, Genève\, 1204
CATEGORIES:Culte
ATTACH;FMTTYPE=image/jpeg:https://eglisepelisserie.ch/wp-content/uploads/2024/06/Geneve-rade-scaled-e1719306772287.jpg
END:VEVENT
BEGIN:VEVENT
DTSTART;TZID=Europe/Zurich:20241013T094500
DTEND;TZID=Europe/Zurich:20241013T113000
DTSTAMP:20260420T140050
CREATED:20241007T123959Z
LAST-MODIFIED:20241007T124046Z
UID:3095-1728812700-1728819000@eglisepelisserie.ch
SUMMARY:Dimanche 13 octobre à 9h45: culte avec Michel Jeanrenaud
DESCRIPTION:Le dimanche 13 octobre\, l’Eglise de la Pélisserie se retrouvera à 9h45 pour le culte. La prédication sera assurée par le pasteur Michel Jeanrenaud. La rencontre des ados et des enfants a lieu dans nos locaux. Bienvenue à chacun-e! 🔥🎉😮
URL:https://eglisepelisserie.ch/evenement/dimanche-13-octobre-a-9h45-culte-avec-michel-jeanrenaud/
LOCATION:Eglise de la Pélisserie\, Rue de la Pélisserie 20\, Genève\, 1204
CATEGORIES:Culte
ATTACH;FMTTYPE=image/jpeg:https://eglisepelisserie.ch/wp-content/uploads/2024/06/Geneve-rade-scaled-e1719306772287.jpg
END:VEVENT
BEGIN:VEVENT
DTSTART;TZID=Europe/Zurich:20241020T094500
DTEND;TZID=Europe/Zurich:20241020T113000
DTSTAMP:20260420T140050
CREATED:20241007T124245Z
LAST-MODIFIED:20241007T124245Z
UID:3098-1729417500-1729423800@eglisepelisserie.ch
SUMMARY:Dimanche 20 octobre à 9h45: culte avec Pierre Tschanz
DESCRIPTION:Le dimanche 20 octobre\, l’Eglise de la Pélisserie se retrouvera à 9h45 pour le culte. La prédication sera assurée par Pierre Tschanz. La rencontre des ados et des enfants a lieu dans nos locaux. Bienvenue à chacun-e! 🔥🎉😮
URL:https://eglisepelisserie.ch/evenement/dimanche-20-octobre-a-9h45-culte-avec-pierre-tschanz/
LOCATION:Eglise de la Pélisserie\, Rue de la Pélisserie 20\, Genève\, 1204
CATEGORIES:Culte
ATTACH;FMTTYPE=image/jpeg:https://eglisepelisserie.ch/wp-content/uploads/2024/06/Geneve-rade-scaled-e1719306772287.jpg
END:VEVENT
BEGIN:VEVENT
DTSTART;TZID=Europe/Zurich:20241027T094500
DTEND;TZID=Europe/Zurich:20241027T113000
DTSTAMP:20260420T140050
CREATED:20241021T153804Z
LAST-MODIFIED:20241021T153804Z
UID:3111-1730022300-1730028600@eglisepelisserie.ch
SUMMARY:Dimanche 27 octobre à 9h45: culte avec Serge Carrel
DESCRIPTION:Le dimanche 27 octobre\, l’Eglise de la Pélisserie se retrouvera à 9h45 pour le culte. La prédication sera assurée par Serge Carrel autour du livre de Néhémie et de la revitalisation de notre Eglise. La rencontre des ados et des enfants a lieu dans nos locaux. Bienvenue à chacun-e! 🔥🎉😮
URL:https://eglisepelisserie.ch/evenement/dimanche-27-octobre-a-9h45-culte-avec-serge-carrel/
LOCATION:Eglise de la Pélisserie\, Rue de la Pélisserie 20\, Genève\, 1204
CATEGORIES:Culte
ATTACH;FMTTYPE=image/jpeg:https://eglisepelisserie.ch/wp-content/uploads/2024/06/Geneve-rade-scaled-e1719306772287.jpg
END:VEVENT
END:VCALENDAR