BEGIN:VCALENDAR
VERSION:2.0
PRODID:-//Église évangélique de la Pélisserie - ECPv6.15.20//NONSGML v1.0//EN
CALSCALE:GREGORIAN
METHOD:PUBLISH
X-ORIGINAL-URL:https://eglisepelisserie.ch
X-WR-CALDESC:Évènements pour Église évangélique de la Pélisserie
REFRESH-INTERVAL;VALUE=DURATION:PT1H
X-Robots-Tag:noindex
X-PUBLISHED-TTL:PT1H
BEGIN:VTIMEZONE
TZID:Europe/Zurich
BEGIN:DAYLIGHT
TZOFFSETFROM:+0100
TZOFFSETTO:+0200
TZNAME:CEST
DTSTART:20250330T010000
END:DAYLIGHT
BEGIN:STANDARD
TZOFFSETFROM:+0200
TZOFFSETTO:+0100
TZNAME:CET
DTSTART:20251026T010000
END:STANDARD
BEGIN:DAYLIGHT
TZOFFSETFROM:+0100
TZOFFSETTO:+0200
TZNAME:CEST
DTSTART:20260329T010000
END:DAYLIGHT
BEGIN:STANDARD
TZOFFSETFROM:+0200
TZOFFSETTO:+0100
TZNAME:CET
DTSTART:20261025T010000
END:STANDARD
BEGIN:DAYLIGHT
TZOFFSETFROM:+0100
TZOFFSETTO:+0200
TZNAME:CEST
DTSTART:20270328T010000
END:DAYLIGHT
BEGIN:STANDARD
TZOFFSETFROM:+0200
TZOFFSETTO:+0100
TZNAME:CET
DTSTART:20271031T010000
END:STANDARD
END:VTIMEZONE
BEGIN:VEVENT
DTSTART;TZID=Europe/Zurich:20260315T094500
DTEND;TZID=Europe/Zurich:20260315T113000
DTSTAMP:20260419T212821
CREATED:20260210T140605Z
LAST-MODIFIED:20260305T070014Z
UID:3667-1773567900-1773574200@eglisepelisserie.ch
SUMMARY:Dimanche 15 mars à 9h45: culte avec cène. Prédication: Serge Carrel
DESCRIPTION:Le dimanche 15 mars\, l’Eglise de la Pélisserie se retrouve à 9h45 pour le culte. La prédication sera assurée par le pasteur Serge Carrel. La rencontre des enfants et des ados a lieu dans nos locaux. Bienvenue à chacun-e! 🔥🎉😮
URL:https://eglisepelisserie.ch/evenement/dimanche-22-fevrier-a-9h45-culte-avec-cene-predication-serge-carrel/
LOCATION:Eglise de la Pélisserie\, Rue de la Pélisserie 20\, Genève\, 1204
CATEGORIES:Culte
ATTACH;FMTTYPE=image/jpeg:https://eglisepelisserie.ch/wp-content/uploads/2024/06/Geneve-rade-scaled-e1719306772287.jpg
END:VEVENT
BEGIN:VEVENT
DTSTART;TZID=Europe/Zurich:20260322T094500
DTEND;TZID=Europe/Zurich:20260322T113000
DTSTAMP:20260419T212821
CREATED:20260216T102037Z
LAST-MODIFIED:20260216T102037Z
UID:3674-1774172700-1774179000@eglisepelisserie.ch
SUMMARY:Dimanche 22 mars à 9h45: culte mission. Prédication: Eric Pfammater (MCE)
DESCRIPTION:Le dimanche 22 mars\, l’Eglise de la Pélisserie se retrouve à 9h45 pour un culte mission. La prédication sera assurée par Eric Pfammater de la Mission chrétienne pour les pays de l’Est (MCE). La rencontre des enfants et des ados a lieu dans nos locaux. Bienvenue à chacun-e! 🔥🎉😮
URL:https://eglisepelisserie.ch/evenement/dimanche-22-mars-a-9h45-culte-mission-predication-eric-pfammater-mce/
LOCATION:Eglise de la Pélisserie\, Rue de la Pélisserie 20\, Genève\, 1204
CATEGORIES:Culte
ATTACH;FMTTYPE=image/jpeg:https://eglisepelisserie.ch/wp-content/uploads/2024/06/Geneve-rade-scaled-e1719306772287.jpg
END:VEVENT
BEGIN:VEVENT
DTSTART;TZID=Europe/Zurich:20260405T094500
DTEND;TZID=Europe/Zurich:20260405T113000
DTSTAMP:20260419T212821
CREATED:20260330T190708Z
LAST-MODIFIED:20260330T190708Z
UID:3686-1775382300-1775388600@eglisepelisserie.ch
SUMMARY:Dimanche 5 avril à 9h45: culte de Pâques avec cène. Prédication: Serge Carrel
DESCRIPTION:Le dimanche 5 avril\, l’Eglise de la Pélisserie se retrouve à 9h45 pour le culte de Pâques. La prédication sera assurée par le pasteur Serge Carrel. La rencontre des enfants et des ados a lieu dans nos locaux. Bienvenue à chacun-e! 🔥🎉😮
URL:https://eglisepelisserie.ch/evenement/dimanche-5-avril-a-9h45-culte-de-paques-avec-cene-predication-serge-carrel/
LOCATION:Eglise de la Pélisserie\, Rue de la Pélisserie 20\, Genève\, 1204
CATEGORIES:Culte
ATTACH;FMTTYPE=image/jpeg:https://eglisepelisserie.ch/wp-content/uploads/2024/06/Geneve-rade-scaled-e1719306772287.jpg
END:VEVENT
BEGIN:VEVENT
DTSTART;TZID=Europe/Zurich:20260412T094500
DTEND;TZID=Europe/Zurich:20260412T113000
DTSTAMP:20260419T212821
CREATED:20260330T191038Z
LAST-MODIFIED:20260330T191038Z
UID:3688-1775987100-1775993400@eglisepelisserie.ch
SUMMARY:Dimanche 12 avril à 9h45: culte avec cène
DESCRIPTION:Le dimanche 12 avril\, l’Eglise de la Pélisserie se retrouve à 9h45 pour le culte. Un repas communautaire suivra le culte. La rencontre des enfants et des ados a lieu dans nos locaux. Bienvenue à chacun-e! 🔥🎉😮
URL:https://eglisepelisserie.ch/evenement/dimanche-12-avril-a-9h45-culte-avec-cene/
LOCATION:Eglise de la Pélisserie\, Rue de la Pélisserie 20\, Genève\, 1204
CATEGORIES:Culte
ATTACH;FMTTYPE=image/jpeg:https://eglisepelisserie.ch/wp-content/uploads/2024/06/Geneve-rade-scaled-e1719306772287.jpg
END:VEVENT
BEGIN:VEVENT
DTSTART;TZID=Europe/Zurich:20260419T094500
DTEND;TZID=Europe/Zurich:20260419T113000
DTSTAMP:20260419T212821
CREATED:20260330T191335Z
LAST-MODIFIED:20260330T191335Z
UID:3690-1776591900-1776598200@eglisepelisserie.ch
SUMMARY:Dimanche 19 avril à 9h45: culte pour petits et grands
DESCRIPTION:Le dimanche 19 avril\, l’Eglise de la Pélisserie se retrouve à 9h45 pour un culte pour petits et grands (famille). Bienvenue à chacun-e! 🔥🎉😮
URL:https://eglisepelisserie.ch/evenement/dimanche-19-avril-a-9h45-culte-pour-petits-et-grands/
LOCATION:Eglise de la Pélisserie\, Rue de la Pélisserie 20\, Genève\, 1204
CATEGORIES:Culte
ATTACH;FMTTYPE=image/jpeg:https://eglisepelisserie.ch/wp-content/uploads/2024/06/Geneve-rade-scaled-e1719306772287.jpg
END:VEVENT
BEGIN:VEVENT
DTSTART;TZID=Europe/Zurich:20260426T094500
DTEND;TZID=Europe/Zurich:20260426T113000
DTSTAMP:20260419T212821
CREATED:20260417T071038Z
LAST-MODIFIED:20260417T071038Z
UID:3755-1777196700-1777203000@eglisepelisserie.ch
SUMMARY:Dimanche 26 avril à 9h45: culte avec prédication d'un pasteur mongol
DESCRIPTION:Le dimanche 26 avril\, l’Eglise de la Pélisserie se retrouve à 9h45 pour un culte. La prédication sera assurée par un pasteur d’origine mongole dans le cadre de la Journée de la Bible en mongol. Bienvenue à chacun-e! 🔥🎉😮
URL:https://eglisepelisserie.ch/evenement/dimanche-26-avril-a-9h45-culte-avec-predication-dun-pasteur-mongol/
LOCATION:Eglise de la Pélisserie\, Rue de la Pélisserie 20\, Genève\, 1204
CATEGORIES:Culte
ATTACH;FMTTYPE=image/jpeg:https://eglisepelisserie.ch/wp-content/uploads/2026/04/MSV-reading-Hebrew-Bible-scaled.jpg
END:VEVENT
BEGIN:VEVENT
DTSTART;TZID=Europe/Zurich:20260503T094500
DTEND;TZID=Europe/Zurich:20260503T113000
DTSTAMP:20260419T212821
CREATED:20260417T075642Z
LAST-MODIFIED:20260417T075642Z
UID:3761-1777801500-1777807800@eglisepelisserie.ch
SUMMARY:Dimanche 3 mai à 9h45: culte avec cène. Prédication: Gérard Pella
DESCRIPTION:Le dimanche 3 mai\, l’Eglise de la Pélisserie se retrouve à 9h45 pour le culte. La prédication sera assurée par le pasteur Gérard Pella. Un repas communautaire suivra le culte. La rencontre des enfants et des ados a lieu dans nos locaux. Bienvenue à chacun-e! 🔥🎉😮
URL:https://eglisepelisserie.ch/evenement/dimanche-3-mai-a-9h45-culte-avec-cene-predication-gerard-pella/
LOCATION:Eglise de la Pélisserie\, Rue de la Pélisserie 20\, Genève\, 1204
CATEGORIES:Culte
ATTACH;FMTTYPE=image/jpeg:https://eglisepelisserie.ch/wp-content/uploads/2024/06/Geneve-rade-scaled-e1719306772287.jpg
END:VEVENT
BEGIN:VEVENT
DTSTART;TZID=Europe/Zurich:20260510T094500
DTEND;TZID=Europe/Zurich:20260510T113000
DTSTAMP:20260419T212821
CREATED:20260417T075908Z
LAST-MODIFIED:20260417T075908Z
UID:3763-1778406300-1778412600@eglisepelisserie.ch
SUMMARY:Dimanche 10 mai à 9h45: culte avec cène. Prédication: un membre de la communauté
DESCRIPTION:Le dimanche 10 mai\, l’Eglise de la Pélisserie se retrouve à 9h45 pour le culte. La prédication sera assurée par un membre de la communauté. La rencontre des enfants et des ados a lieu dans nos locaux. Bienvenue à chacun-e! 🔥🎉😮
URL:https://eglisepelisserie.ch/evenement/dimanche-10-mai-a-9h45-culte-avec-cene-predication-un-membre-de-la-communaute/
LOCATION:Eglise de la Pélisserie\, Rue de la Pélisserie 20\, Genève\, 1204
CATEGORIES:Culte
ATTACH;FMTTYPE=image/jpeg:https://eglisepelisserie.ch/wp-content/uploads/2024/06/Geneve-rade-scaled-e1719306772287.jpg
END:VEVENT
BEGIN:VEVENT
DTSTART;TZID=Europe/Zurich:20260517T094500
DTEND;TZID=Europe/Zurich:20260517T113000
DTSTAMP:20260419T212821
CREATED:20260331T134902Z
LAST-MODIFIED:20260331T135235Z
UID:3696-1779011100-1779017400@eglisepelisserie.ch
SUMMARY:Dimanche 17 mai à 9h45: culte avec cène. Prédication: Henri Blocher ("Genèse 3: le début du désastre")
DESCRIPTION:Le dimanche 17 mai\, l’Eglise de la Pélisserie se retrouve à 9h45 pour le culte. La prédication sera assurée par le théologien Henri Blocher. Il abordera  dans sa prédication\, et tout au long de la journée\, le thème du péché originel. La rencontre des enfants et des ados a lieu dans nos locaux. Bienvenue à chacun-e! 🔥🎉😮
URL:https://eglisepelisserie.ch/evenement/dimanche-17-mai-a-9h45-culte-avec-cene-predication-henri-blocher-genese-3-le-debut-du-desastre/
LOCATION:Eglise de la Pélisserie\, Rue de la Pélisserie 20\, Genève\, 1204
CATEGORIES:Culte
ATTACH;FMTTYPE=image/jpeg:https://eglisepelisserie.ch/wp-content/uploads/2024/06/Geneve-rade-scaled-e1719306772287.jpg
END:VEVENT
BEGIN:VEVENT
DTSTART;TZID=Europe/Zurich:20260524T094500
DTEND;TZID=Europe/Zurich:20260524T113000
DTSTAMP:20260419T212821
CREATED:20260419T171621Z
LAST-MODIFIED:20260419T171730Z
UID:3802-1779615900-1779622200@eglisepelisserie.ch
SUMMARY:Dimanche 24 mai à 9h45: culte avec cène. Prédication: Daniel Gouanou
DESCRIPTION:Le dimanche 24 mai\, l’Eglise de la Pélisserie se retrouve à 9h45 pour le culte. La prédication sera assurée par Daniel Gouanou\, ancien. La rencontre des enfants et des ados a lieu dans nos locaux. Bienvenue à chacun-e! 🔥🎉😮
URL:https://eglisepelisserie.ch/evenement/dimanche-24-mai-a-9h45-culte-avec-cene-predication-daniel-gouanou/
LOCATION:Eglise de la Pélisserie\, Rue de la Pélisserie 20\, Genève\, 1204
CATEGORIES:Culte
ATTACH;FMTTYPE=image/jpeg:https://eglisepelisserie.ch/wp-content/uploads/2024/06/Geneve-rade-scaled-e1719306772287.jpg
END:VEVENT
BEGIN:VEVENT
DTSTART;TZID=Europe/Zurich:20260524T094500
DTEND;TZID=Europe/Zurich:20260524T113000
DTSTAMP:20260419T212821
CREATED:20260419T172120Z
LAST-MODIFIED:20260419T172120Z
UID:3805-1779615900-1779622200@eglisepelisserie.ch
SUMMARY:Dimanche 31 mai à 9h45: culte avec cène. Prédication: David Brown
DESCRIPTION:Le dimanche 24 mai\, l’Eglise de la Pélisserie se retrouve à 9h45 pour le culte. La prédication sera assurée par le pasteur David Brown. La rencontre des enfants et des ados a lieu dans nos locaux. Bienvenue à chacun-e! Une rencontre pour toutes les personnes intéressées par la revitalisation de l’Eglise suivra le culte. Prendre son pique-nique. 🔥🎉😮
URL:https://eglisepelisserie.ch/evenement/dimanche-31-mai-a-9h45-culte-avec-cene-predication-david-brown/
LOCATION:Eglise de la Pélisserie\, Rue de la Pélisserie 20\, Genève\, 1204
CATEGORIES:Culte
ATTACH;FMTTYPE=image/jpeg:https://eglisepelisserie.ch/wp-content/uploads/2024/06/Geneve-rade-scaled-e1719306772287.jpg
END:VEVENT
END:VCALENDAR