BEGIN:VCALENDAR
VERSION:2.0
PRODID:-//Église évangélique de la Pélisserie - ECPv6.15.20//NONSGML v1.0//EN
CALSCALE:GREGORIAN
METHOD:PUBLISH
X-WR-CALNAME:Église évangélique de la Pélisserie
X-ORIGINAL-URL:https://eglisepelisserie.ch
X-WR-CALDESC:Évènements pour Église évangélique de la Pélisserie
REFRESH-INTERVAL;VALUE=DURATION:PT1H
X-Robots-Tag:noindex
X-PUBLISHED-TTL:PT1H
BEGIN:VTIMEZONE
TZID:Europe/Zurich
BEGIN:DAYLIGHT
TZOFFSETFROM:+0100
TZOFFSETTO:+0200
TZNAME:CEST
DTSTART:20240331T010000
END:DAYLIGHT
BEGIN:STANDARD
TZOFFSETFROM:+0200
TZOFFSETTO:+0100
TZNAME:CET
DTSTART:20241027T010000
END:STANDARD
BEGIN:DAYLIGHT
TZOFFSETFROM:+0100
TZOFFSETTO:+0200
TZNAME:CEST
DTSTART:20250330T010000
END:DAYLIGHT
BEGIN:STANDARD
TZOFFSETFROM:+0200
TZOFFSETTO:+0100
TZNAME:CET
DTSTART:20251026T010000
END:STANDARD
BEGIN:DAYLIGHT
TZOFFSETFROM:+0100
TZOFFSETTO:+0200
TZNAME:CEST
DTSTART:20260329T010000
END:DAYLIGHT
BEGIN:STANDARD
TZOFFSETFROM:+0200
TZOFFSETTO:+0100
TZNAME:CET
DTSTART:20261025T010000
END:STANDARD
END:VTIMEZONE
BEGIN:VEVENT
DTSTART;TZID=Europe/Zurich:20250209T151500
DTEND;TZID=Europe/Zurich:20250209T163000
DTSTAMP:20260421T155110
CREATED:20250201T095337Z
LAST-MODIFIED:20250208T090349Z
UID:3197-1739114100-1739118600@eglisepelisserie.ch
SUMMARY:Dimanche 9 février à 15h15: récital de piano d’Esther Duteil
DESCRIPTION:Dimanche 9 février 15h15 : récital de piano d’Esther Duteil avec des œuvres de J.S. Bach\, S. Gubaidulina\, W. A. Mozart\, G. Kurtag et C. Franck. Entrée libre. Chapeau à la sortie. Bienvenue à chacun-e! 🔥🎉😮
URL:https://eglisepelisserie.ch/evenement/dimanche-9-fevrier-a-15h15-recital-de-piano-desther-duteil/
LOCATION:Eglise de la Pélisserie\, Rue de la Pélisserie 20\, Genève\, 1204
CATEGORIES:Concerts
ATTACH;FMTTYPE=image/jpeg:https://eglisepelisserie.ch/wp-content/uploads/2025/02/01-CONCERT-09.02.25-DUTEIL-Esther-page-de-garde-1.jpg
END:VEVENT
END:VCALENDAR