BEGIN:VCALENDAR
VERSION:2.0
PRODID:-//Église évangélique de la Pélisserie - ECPv6.15.20//NONSGML v1.0//EN
CALSCALE:GREGORIAN
METHOD:PUBLISH
X-ORIGINAL-URL:https://eglisepelisserie.ch
X-WR-CALDESC:Évènements pour Église évangélique de la Pélisserie
REFRESH-INTERVAL;VALUE=DURATION:PT1H
X-Robots-Tag:noindex
X-PUBLISHED-TTL:PT1H
BEGIN:VTIMEZONE
TZID:Europe/Zurich
BEGIN:DAYLIGHT
TZOFFSETFROM:+0100
TZOFFSETTO:+0200
TZNAME:CEST
DTSTART:20240331T010000
END:DAYLIGHT
BEGIN:STANDARD
TZOFFSETFROM:+0200
TZOFFSETTO:+0100
TZNAME:CET
DTSTART:20241027T010000
END:STANDARD
BEGIN:DAYLIGHT
TZOFFSETFROM:+0100
TZOFFSETTO:+0200
TZNAME:CEST
DTSTART:20250330T010000
END:DAYLIGHT
BEGIN:STANDARD
TZOFFSETFROM:+0200
TZOFFSETTO:+0100
TZNAME:CET
DTSTART:20251026T010000
END:STANDARD
BEGIN:DAYLIGHT
TZOFFSETFROM:+0100
TZOFFSETTO:+0200
TZNAME:CEST
DTSTART:20260329T010000
END:DAYLIGHT
BEGIN:STANDARD
TZOFFSETFROM:+0200
TZOFFSETTO:+0100
TZNAME:CET
DTSTART:20261025T010000
END:STANDARD
END:VTIMEZONE
BEGIN:VEVENT
DTSTART;TZID=Europe/Zurich:20250525T094500
DTEND;TZID=Europe/Zurich:20250525T160000
DTSTAMP:20260421T210328
CREATED:20250409T082150Z
LAST-MODIFIED:20250409T082441Z
UID:3265-1748166300-1748188800@eglisepelisserie.ch
SUMMARY:Dimanche 25 mai à 9h45: culte avec une prédication de Jean Decorvet en lien avec le Réveil de Genève
DESCRIPTION:Le dimanche 25\, l’Eglise de la Pélisserie se retrouve à 9h45 pour un culte spécial en lien avec la publication du livre « Le Réveil de Genève. Perspectives internationales ». La prédication sera assurée par Jean Decorvet\, l’un des directeurs de cette publication. Deux conférences suivront: à 14h « Que peut apporter le Réveil de Genève à la revitalisation de nos Eglises? » et à 15h15 « A la découverte de personnalités du Réveil: Félix Neff\, Adolphe Monod\, Valérie de Gasparin\, Edmond Scherrer… » La rencontre des ados et des enfants a lieu dans nos locaux. Bienvenue à chacun-e! 🔥🎉😮
URL:https://eglisepelisserie.ch/evenement/dimanche-25-mai-a-9h45-culte-avec-une-predication-de-jean-decorvet-en-lien-avec-le-reveil-de-geneve/
LOCATION:Eglise de la Pélisserie\, Rue de la Pélisserie 20\, Genève\, 1204
CATEGORIES:Conference,Culte
ATTACH;FMTTYPE=image/jpeg:https://eglisepelisserie.ch/wp-content/uploads/2025/04/Pave_-Reveil-de-Geneve.jpg
END:VEVENT
END:VCALENDAR