BEGIN:VCALENDAR
VERSION:2.0
PRODID:-//Église évangélique de la Pélisserie - ECPv6.15.20//NONSGML v1.0//EN
CALSCALE:GREGORIAN
METHOD:PUBLISH
X-WR-CALNAME:Église évangélique de la Pélisserie
X-ORIGINAL-URL:https://eglisepelisserie.ch
X-WR-CALDESC:Évènements pour Église évangélique de la Pélisserie
REFRESH-INTERVAL;VALUE=DURATION:PT1H
X-Robots-Tag:noindex
X-PUBLISHED-TTL:PT1H
BEGIN:VTIMEZONE
TZID:Europe/Zurich
BEGIN:DAYLIGHT
TZOFFSETFROM:+0100
TZOFFSETTO:+0200
TZNAME:CEST
DTSTART:20240331T010000
END:DAYLIGHT
BEGIN:STANDARD
TZOFFSETFROM:+0200
TZOFFSETTO:+0100
TZNAME:CET
DTSTART:20241027T010000
END:STANDARD
BEGIN:DAYLIGHT
TZOFFSETFROM:+0100
TZOFFSETTO:+0200
TZNAME:CEST
DTSTART:20250330T010000
END:DAYLIGHT
BEGIN:STANDARD
TZOFFSETFROM:+0200
TZOFFSETTO:+0100
TZNAME:CET
DTSTART:20251026T010000
END:STANDARD
BEGIN:DAYLIGHT
TZOFFSETFROM:+0100
TZOFFSETTO:+0200
TZNAME:CEST
DTSTART:20260329T010000
END:DAYLIGHT
BEGIN:STANDARD
TZOFFSETFROM:+0200
TZOFFSETTO:+0100
TZNAME:CET
DTSTART:20261025T010000
END:STANDARD
END:VTIMEZONE
BEGIN:VEVENT
DTSTART;TZID=Europe/Zurich:20250518T094500
DTEND;TZID=Europe/Zurich:20250518T113000
DTSTAMP:20260421T193521
CREATED:20250511T122254Z
LAST-MODIFIED:20250511T122254Z
UID:3283-1747561500-1747567800@eglisepelisserie.ch
SUMMARY:Dimanche 18 mai à 9h45: culte avec cène. Prédication: Luc-Olivier Décoppet
DESCRIPTION:Le dimanche 18 mai\, l’Eglise de la Pélisserie se retrouve à 9h45 pour le culte. La prédication sera assurée par le pasteur Luc-Olivier Décoppet. La rencontre des ados et des enfants a lieu dans nos locaux. Bienvenue à chacun-e! 🔥🎉😮
URL:https://eglisepelisserie.ch/evenement/dimanche-18-mai-a-9h45-culte-avec-cene-predication-luc-olivier-decoppet/
LOCATION:Eglise de la Pélisserie\, Rue de la Pélisserie 20\, Genève\, 1204
CATEGORIES:Culte
ATTACH;FMTTYPE=image/jpeg:https://eglisepelisserie.ch/wp-content/uploads/2024/06/Geneve-rade-scaled-e1719306772287.jpg
END:VEVENT
BEGIN:VEVENT
DTSTART;TZID=Europe/Zurich:20250518T123000
DTEND;TZID=Europe/Zurich:20250518T144500
DTSTAMP:20260421T193521
CREATED:20250414T162414Z
LAST-MODIFIED:20250414T162414Z
UID:3272-1747571400-1747579500@eglisepelisserie.ch
SUMMARY:Dimanche 18 mai à 12h30: rencontre du Groupe de jeunes adultes FREE
DESCRIPTION:Le dimanche 18 mai\, le Groupe de jeunes adultes des Eglises FREE de Genève se retrouve à la chapelle de la Pélisserie à 12h30 pour un repas partagé et une discussion autour d’un thème en lien avec la foi. Bienvenue à chacun-e! 🔥🎉😮 Infos: olivier.t.berner@gmail.com \n 
URL:https://eglisepelisserie.ch/evenement/dimanche-18-mai-a-12h30-rencontre-du-groupe-de-jeunes-adultes-free/
LOCATION:Eglise de la Pélisserie\, Rue de la Pélisserie 20\, Genève\, 1204
CATEGORIES:Culte
ATTACH;FMTTYPE=image/jpeg:https://eglisepelisserie.ch/wp-content/uploads/2025/02/Flyer25.jpeg
END:VEVENT
END:VCALENDAR