BEGIN:VCALENDAR
VERSION:2.0
PRODID:-//Église évangélique de la Pélisserie - ECPv6.15.20//NONSGML v1.0//EN
CALSCALE:GREGORIAN
METHOD:PUBLISH
X-ORIGINAL-URL:https://eglisepelisserie.ch
X-WR-CALDESC:Évènements pour Église évangélique de la Pélisserie
REFRESH-INTERVAL;VALUE=DURATION:PT1H
X-Robots-Tag:noindex
X-PUBLISHED-TTL:PT1H
BEGIN:VTIMEZONE
TZID:Europe/Zurich
BEGIN:DAYLIGHT
TZOFFSETFROM:+0100
TZOFFSETTO:+0200
TZNAME:CEST
DTSTART:20240331T010000
END:DAYLIGHT
BEGIN:STANDARD
TZOFFSETFROM:+0200
TZOFFSETTO:+0100
TZNAME:CET
DTSTART:20241027T010000
END:STANDARD
BEGIN:DAYLIGHT
TZOFFSETFROM:+0100
TZOFFSETTO:+0200
TZNAME:CEST
DTSTART:20250330T010000
END:DAYLIGHT
BEGIN:STANDARD
TZOFFSETFROM:+0200
TZOFFSETTO:+0100
TZNAME:CET
DTSTART:20251026T010000
END:STANDARD
BEGIN:DAYLIGHT
TZOFFSETFROM:+0100
TZOFFSETTO:+0200
TZNAME:CEST
DTSTART:20260329T010000
END:DAYLIGHT
BEGIN:STANDARD
TZOFFSETFROM:+0200
TZOFFSETTO:+0100
TZNAME:CET
DTSTART:20261025T010000
END:STANDARD
END:VTIMEZONE
BEGIN:VEVENT
DTSTART;TZID=Europe/Zurich:20250323T094500
DTEND;TZID=Europe/Zurich:20250323T111500
DTSTAMP:20260421T140232
CREATED:20250317T071533Z
LAST-MODIFIED:20250317T071620Z
UID:3250-1742723100-1742728500@eglisepelisserie.ch
SUMMARY:23 mars 9h45: cours Alpha Jeunes
DESCRIPTION:Le dimanche 23 mars à 9h45\, deuxième rencontre du cours Alpha Jeunes. Thème: « Qui est Jésus? » Bienvenue à chacun-e!
URL:https://eglisepelisserie.ch/evenement/23-mars-9h45-cours-alpha-jeunes/
CATEGORIES:Culte
ATTACH;FMTTYPE=application/pdf:https://eglisepelisserie.ch/wp-content/uploads/2025/02/Flyer-Invitation-Modifiable-Alphalive-Jeunes_A5.pdf
END:VEVENT
BEGIN:VEVENT
DTSTART;TZID=Europe/Zurich:20250323T094500
DTEND;TZID=Europe/Zurich:20250323T113000
DTSTAMP:20260421T140232
CREATED:20250309T121646Z
LAST-MODIFIED:20250309T121646Z
UID:3241-1742723100-1742729400@eglisepelisserie.ch
SUMMARY:Dimanche 23 mars à 9h45: culte avec cène. Prédication: Michel Jeanrenaud. Une assemblée générale suivra
DESCRIPTION:Le dimanche 23 mars\, l’Eglise de la Pélisserie se retrouve à 9h45 pour le culte. La prédication sera assurée par le pasteur Michel Jeanrenaud. La rencontre des ados et des enfants a lieu dans nos locaux. Une assemblée générale suivra le culte. Bienvenue à chacun-e! 🔥🎉😮
URL:https://eglisepelisserie.ch/evenement/dimanche-23-mars-a-9h45-culte-avec-cene-predication-michel-jeanrenaud-une-assemblee-generale-suivra/
LOCATION:Eglise de la Pélisserie\, Rue de la Pélisserie 20\, Genève\, 1204
CATEGORIES:Culte
ATTACH;FMTTYPE=image/jpeg:https://eglisepelisserie.ch/wp-content/uploads/2024/06/Geneve-rade-scaled-e1719306772287.jpg
END:VEVENT
END:VCALENDAR