BEGIN:VCALENDAR
VERSION:2.0
PRODID:-//Église évangélique de la Pélisserie - ECPv6.15.20//NONSGML v1.0//EN
CALSCALE:GREGORIAN
METHOD:PUBLISH
X-ORIGINAL-URL:https://eglisepelisserie.ch
X-WR-CALDESC:Évènements pour Église évangélique de la Pélisserie
REFRESH-INTERVAL;VALUE=DURATION:PT1H
X-Robots-Tag:noindex
X-PUBLISHED-TTL:PT1H
BEGIN:VTIMEZONE
TZID:Europe/Zurich
BEGIN:DAYLIGHT
TZOFFSETFROM:+0100
TZOFFSETTO:+0200
TZNAME:CEST
DTSTART:20240331T010000
END:DAYLIGHT
BEGIN:STANDARD
TZOFFSETFROM:+0200
TZOFFSETTO:+0100
TZNAME:CET
DTSTART:20241027T010000
END:STANDARD
BEGIN:DAYLIGHT
TZOFFSETFROM:+0100
TZOFFSETTO:+0200
TZNAME:CEST
DTSTART:20250330T010000
END:DAYLIGHT
BEGIN:STANDARD
TZOFFSETFROM:+0200
TZOFFSETTO:+0100
TZNAME:CET
DTSTART:20251026T010000
END:STANDARD
BEGIN:DAYLIGHT
TZOFFSETFROM:+0100
TZOFFSETTO:+0200
TZNAME:CEST
DTSTART:20260329T010000
END:DAYLIGHT
BEGIN:STANDARD
TZOFFSETFROM:+0200
TZOFFSETTO:+0100
TZNAME:CET
DTSTART:20261025T010000
END:STANDARD
END:VTIMEZONE
BEGIN:VEVENT
DTSTART;TZID=Europe/Zurich:20250302T094500
DTEND;TZID=Europe/Zurich:20250302T111500
DTSTAMP:20260421T153416
CREATED:20250218T135800Z
LAST-MODIFIED:20250220T161952Z
UID:3231-1740908700-1740914100@eglisepelisserie.ch
SUMMARY:Dimanche 2 mars 9h45: culte en mongol et en français avec repas communautaire
DESCRIPTION:Dimanche 2 mars 9h45: venez vivre un moment de partage et de louange lors d’un culte exceptionnel réunissant l’Église francophone et la communauté mongole. Ce culte sera bilingue\, avec une prédication en mongol et une traduction en français. Un repas communautaire suivra le culte. Tous sont les bienvenus !
URL:https://eglisepelisserie.ch/evenement/dimanche-2-mars-9h45-culte-en-mongol-et-en-francais/
CATEGORIES:Culte
ATTACH;FMTTYPE=image/jpeg:https://eglisepelisserie.ch/wp-content/uploads/2025/02/Culte-Mongolie.jpeg
END:VEVENT
END:VCALENDAR