BEGIN:VCALENDAR
VERSION:2.0
PRODID:-//Église évangélique de la Pélisserie - ECPv6.15.20//NONSGML v1.0//EN
CALSCALE:GREGORIAN
METHOD:PUBLISH
X-ORIGINAL-URL:https://eglisepelisserie.ch
X-WR-CALDESC:Évènements pour Église évangélique de la Pélisserie
REFRESH-INTERVAL;VALUE=DURATION:PT1H
X-Robots-Tag:noindex
X-PUBLISHED-TTL:PT1H
BEGIN:VTIMEZONE
TZID:Europe/Zurich
BEGIN:DAYLIGHT
TZOFFSETFROM:+0100
TZOFFSETTO:+0200
TZNAME:CEST
DTSTART:20240331T010000
END:DAYLIGHT
BEGIN:STANDARD
TZOFFSETFROM:+0200
TZOFFSETTO:+0100
TZNAME:CET
DTSTART:20241027T010000
END:STANDARD
BEGIN:DAYLIGHT
TZOFFSETFROM:+0100
TZOFFSETTO:+0200
TZNAME:CEST
DTSTART:20250330T010000
END:DAYLIGHT
BEGIN:STANDARD
TZOFFSETFROM:+0200
TZOFFSETTO:+0100
TZNAME:CET
DTSTART:20251026T010000
END:STANDARD
BEGIN:DAYLIGHT
TZOFFSETFROM:+0100
TZOFFSETTO:+0200
TZNAME:CEST
DTSTART:20260329T010000
END:DAYLIGHT
BEGIN:STANDARD
TZOFFSETFROM:+0200
TZOFFSETTO:+0100
TZNAME:CET
DTSTART:20261025T010000
END:STANDARD
END:VTIMEZONE
BEGIN:VEVENT
DTSTART;TZID=Europe/Zurich:20250119T094500
DTEND;TZID=Europe/Zurich:20250119T113000
DTSTAMP:20260421T124515
CREATED:20250112T064546Z
LAST-MODIFIED:20250117T155903Z
UID:3181-1737279900-1737286200@eglisepelisserie.ch
SUMMARY:Dimanche 19 janvier à 9h45: culte avec prédication de Fadi Akl
DESCRIPTION:Le dimanche 19 janvier\, l’Eglise de la Pélisserie se retrouve à 9h45 pour le culte. La prédication sera assurée par Fadi Akl. Son thème: « S’accueillir à l’exemple du Seigneur » (Romains 15.1-13).\nLa rencontre des ados et des enfants a lieu dans nos locaux. Bienvenue à chacun-e! 🔥🎉😮
URL:https://eglisepelisserie.ch/evenement/dimanche-19-janvier-a-9h45-culte-avec-predication-de-fadi-akl/
LOCATION:Eglise de la Pélisserie\, Rue de la Pélisserie 20\, Genève\, 1204
CATEGORIES:Culte
ATTACH;FMTTYPE=image/jpeg:https://eglisepelisserie.ch/wp-content/uploads/2024/06/Geneve-rade-scaled-e1719306772287.jpg
END:VEVENT
END:VCALENDAR