BEGIN:VCALENDAR
VERSION:2.0
PRODID:-//Église évangélique de la Pélisserie - ECPv6.15.20//NONSGML v1.0//EN
CALSCALE:GREGORIAN
METHOD:PUBLISH
X-ORIGINAL-URL:https://eglisepelisserie.ch
X-WR-CALDESC:Évènements pour Église évangélique de la Pélisserie
REFRESH-INTERVAL;VALUE=DURATION:PT1H
X-Robots-Tag:noindex
X-PUBLISHED-TTL:PT1H
BEGIN:VTIMEZONE
TZID:Europe/Zurich
BEGIN:DAYLIGHT
TZOFFSETFROM:+0100
TZOFFSETTO:+0200
TZNAME:CEST
DTSTART:20230326T010000
END:DAYLIGHT
BEGIN:STANDARD
TZOFFSETFROM:+0200
TZOFFSETTO:+0100
TZNAME:CET
DTSTART:20231029T010000
END:STANDARD
BEGIN:DAYLIGHT
TZOFFSETFROM:+0100
TZOFFSETTO:+0200
TZNAME:CEST
DTSTART:20240331T010000
END:DAYLIGHT
BEGIN:STANDARD
TZOFFSETFROM:+0200
TZOFFSETTO:+0100
TZNAME:CET
DTSTART:20241027T010000
END:STANDARD
BEGIN:DAYLIGHT
TZOFFSETFROM:+0100
TZOFFSETTO:+0200
TZNAME:CEST
DTSTART:20250330T010000
END:DAYLIGHT
BEGIN:STANDARD
TZOFFSETFROM:+0200
TZOFFSETTO:+0100
TZNAME:CET
DTSTART:20251026T010000
END:STANDARD
END:VTIMEZONE
BEGIN:VEVENT
DTSTART;TZID=Europe/Zurich:20241106T200000
DTEND;TZID=Europe/Zurich:20241106T211500
DTSTAMP:20260420T163513
CREATED:20240930T100349Z
LAST-MODIFIED:20241007T124546Z
UID:3092-1730923200-1730927700@eglisepelisserie.ch
SUMMARY:Mercredi 6 novembre à 20h: étude biblique «Gérer le conflit»
DESCRIPTION:Mercredi 6 novembre à 20h à la Pélisserie\, cinquième étude biblique autour de la communication. Intitulée : «Gérer le conflit»\, elle portera sur le livre de Thierry Lenoir «Parole de chair». Bienvenue à chacun-e!\nVous pouvez vous préparer à cette soirée au travers de cette page web (feuille de questions\, vidéo\, chapitre à lire…).
URL:https://eglisepelisserie.ch/evenement/mercredi-6-novembre-a-20h-etude-biblique-gerer-le-conflit/
LOCATION:Eglise de la Pélisserie\, Rue de la Pélisserie 20\, Genève\, 1204
CATEGORIES:Culte,Etude biblique
ATTACH;FMTTYPE=image/jpeg:https://eglisepelisserie.ch/wp-content/uploads/2024/08/Lenoir-couv-web-site-pel-scaled.jpg
END:VEVENT
END:VCALENDAR