BEGIN:VCALENDAR
VERSION:2.0
PRODID:-//Église évangélique de la Pélisserie - ECPv6.15.20//NONSGML v1.0//EN
CALSCALE:GREGORIAN
METHOD:PUBLISH
X-ORIGINAL-URL:https://eglisepelisserie.ch
X-WR-CALDESC:Évènements pour Église évangélique de la Pélisserie
REFRESH-INTERVAL;VALUE=DURATION:PT1H
X-Robots-Tag:noindex
X-PUBLISHED-TTL:PT1H
BEGIN:VTIMEZONE
TZID:Europe/Zurich
BEGIN:DAYLIGHT
TZOFFSETFROM:+0100
TZOFFSETTO:+0200
TZNAME:CEST
DTSTART:20230326T010000
END:DAYLIGHT
BEGIN:STANDARD
TZOFFSETFROM:+0200
TZOFFSETTO:+0100
TZNAME:CET
DTSTART:20231029T010000
END:STANDARD
BEGIN:DAYLIGHT
TZOFFSETFROM:+0100
TZOFFSETTO:+0200
TZNAME:CEST
DTSTART:20240331T010000
END:DAYLIGHT
BEGIN:STANDARD
TZOFFSETFROM:+0200
TZOFFSETTO:+0100
TZNAME:CET
DTSTART:20241027T010000
END:STANDARD
BEGIN:DAYLIGHT
TZOFFSETFROM:+0100
TZOFFSETTO:+0200
TZNAME:CEST
DTSTART:20250330T010000
END:DAYLIGHT
BEGIN:STANDARD
TZOFFSETFROM:+0200
TZOFFSETTO:+0100
TZNAME:CET
DTSTART:20251026T010000
END:STANDARD
END:VTIMEZONE
BEGIN:VEVENT
DTSTART;TZID=Europe/Zurich:20240922T094500
DTEND;TZID=Europe/Zurich:20240922T113000
DTSTAMP:20260420T152222
CREATED:20240920T084123Z
LAST-MODIFIED:20240920T084123Z
UID:3082-1726998300-1727004600@eglisepelisserie.ch
SUMMARY:Dimanche 22 septembre à 9h45: culte avec Serge Carrel
DESCRIPTION:Le dimanche 22 septembre\, l’Eglise de la Pélisserie poursuit son parcours autour du thème de la revitalisation d’Eglise avec une prédication en lien avec la prière de Néhémie 1. La rencontre des ados et des enfants a lieu dans nos locaux. Bienvenue à chacun-e! 🔥🎉😮
URL:https://eglisepelisserie.ch/evenement/dimanche-22-septembre-a-9h45-culte-avec-serge-carrel/
LOCATION:Eglise de la Pélisserie\, Rue de la Pélisserie 20\, Genève\, 1204
CATEGORIES:Culte
ATTACH;FMTTYPE=image/jpeg:https://eglisepelisserie.ch/wp-content/uploads/2024/06/Geneve-rade-scaled-e1719306772287.jpg
END:VEVENT
END:VCALENDAR